BEGIN:VCALENDAR
VERSION:2.0
PRODID:-//wp-events-plugin.com//7.2.3.1//EN
BEGIN:VEVENT
UID:3521@sairegion10.org
DTSTART;TZID=America/Chicago:20260523T080000
DTEND;TZID=America/Chicago:20260524T170000
DTSTAMP:20260420T201623Z
URL:https://sairegion10.org/events/ya-annual-retreat/
SUMMARY:YA Annual Retreat
DESCRIPTION:      What:           Region 10 Young Adults Annual 
 retreat\n      Theme:        Rewind - Rethink - Rejuvenate\n    
   Where:        Dallas Sai Center\n      When:         May 23
 rd &amp\; 24th\, Memorial Day weekend\n      Register:    Registratio
 n Link
CATEGORIES:YA
LOCATION:Dallas Sai Center\, 2875 E Parker Rd\, Plano\, TX\, United States
X-APPLE-STRUCTURED-LOCATION;VALUE=URI;X-ADDRESS=2875 E Parker Rd\, Plano\, 
 TX\, United States;X-APPLE-RADIUS=100;X-TITLE=Dallas Sai Center:geo:0,0
END:VEVENT
BEGIN:VTIMEZONE
TZID:America/Chicago
X-LIC-LOCATION:America/Chicago
BEGIN:DAYLIGHT
DTSTART:20260308T030000
TZOFFSETFROM:-0600
TZOFFSETTO:-0500
TZNAME:CDT
END:DAYLIGHT
END:VTIMEZONE
END:VCALENDAR