BEGIN:VCALENDAR
VERSION:2.0
PRODID:-//wp-events-plugin.com//7.2.3.1//EN
BEGIN:VEVENT
UID:3522@sairegion10.org
DTSTART;TZID=America/Chicago:20260905T080000
DTEND;TZID=America/Chicago:20260907T210000
DTSTAMP:20260417T233735Z
URL:https://sairegion10.org/events/region-10-retreat/
SUMMARY:Region 10 Retreat
DESCRIPTION:Join us for the annual regional retreat having devotional\, ser
 vice and SSE activities.\n\nDate: September 5\, 2026 - Sept 7\, 2026\n\nLo
 cation: Embassy Suites Hilton @ 1270 Bass Pro Dr\, Round Rock\, TX 78665\n
 \nRegistration Link: TBD\n\n&nbsp\;
CATEGORIES:Devotional
LOCATION:Retreat Site\, 1270 Bass Pro Dr\, Round Rock\, Texas\, 78665\, Uni
 ted States
X-APPLE-STRUCTURED-LOCATION;VALUE=URI;X-ADDRESS=1270 Bass Pro Dr\, Round Ro
 ck\, Texas\, 78665\, United States;X-APPLE-RADIUS=100;X-TITLE=Retreat Site
 :geo:0,0
END:VEVENT
BEGIN:VTIMEZONE
TZID:America/Chicago
X-LIC-LOCATION:America/Chicago
BEGIN:DAYLIGHT
DTSTART:20260308T030000
TZOFFSETFROM:-0600
TZOFFSETTO:-0500
TZNAME:CDT
END:DAYLIGHT
END:VTIMEZONE
END:VCALENDAR