BEGIN:VCALENDAR
VERSION:2.0
PRODID:-//wp-events-plugin.com//7.2.3.1//EN
BEGIN:VEVENT
UID:3518@sairegion10.org
DTSTART;TZID=America/Chicago:20271006T200000
DTEND;TZID=America/Chicago:20271006T210000
DTSTAMP:20260417T231629Z
URL:https://sairegion10.org/events/inspirational-channel-2027-10-06/
SUMMARY:Inspirational Channel
DESCRIPTION:Join our Regional Inspiration Channel to soak in divine experie
 nces from Sai devotees across Region 10 on the first Wednesday of every mo
 nth.\n\nLive: https://live.sairegion10.org\n\nTiming: 8PM - 9PM CT
CATEGORIES:Devotional
LOCATION:https://live.sairegion10.org
END:VEVENT
BEGIN:VTIMEZONE
TZID:America/Chicago
X-LIC-LOCATION:America/Chicago
BEGIN:DAYLIGHT
DTSTART:20270314T030000
TZOFFSETFROM:-0600
TZOFFSETTO:-0500
TZNAME:CDT
END:DAYLIGHT
END:VTIMEZONE
END:VCALENDAR