BEGIN:VCALENDAR
VERSION:2.0
PRODID:-//wp-events-plugin.com//7.2.3.1//EN
BEGIN:VEVENT
UID:3508@sairegion10.org
DTSTART;TZID=America/Chicago:20261202T200000
DTEND;TZID=America/Chicago:20261202T210000
DTSTAMP:20260417T231629Z
URL:https://sairegion10.org/events/inspirational-channel-2026-12-02/
SUMMARY:Inspirational Channel
DESCRIPTION:Join our Regional Inspiration Channel to soak in divine experie
 nces from Sai devotees across Region 10 on the first Wednesday of every mo
 nth.\n\nLive: https://live.sairegion10.org\n\nTiming: 8PM - 9PM CT
CATEGORIES:Devotional
LOCATION:https://live.sairegion10.org
END:VEVENT
BEGIN:VTIMEZONE
TZID:America/Chicago
X-LIC-LOCATION:America/Chicago
BEGIN:STANDARD
DTSTART:20261101T010000
TZOFFSETFROM:-0500
TZOFFSETTO:-0600
TZNAME:CST
END:STANDARD
END:VTIMEZONE
END:VCALENDAR