BEGIN:VCALENDAR
VERSION:2.0
PRODID:-//wp-events-plugin.com//7.2.3.1//EN
BEGIN:VEVENT
UID:3537@sairegion10.org
DTSTART;TZID=America/Chicago:20260914T000000
DTEND;TZID=America/Chicago:20260914T000000
DTSTAMP:20260418T035556Z
URL:https://sairegion10.org/events/ganesh-chaturthi/
SUMMARY:Ganesh Chaturthi
DESCRIPTION:
CATEGORIES:Devotional
END:VEVENT
BEGIN:VTIMEZONE
TZID:America/Chicago
X-LIC-LOCATION:America/Chicago
BEGIN:DAYLIGHT
DTSTART:20260308T030000
TZOFFSETFROM:-0600
TZOFFSETTO:-0500
TZNAME:CDT
END:DAYLIGHT
END:VTIMEZONE
END:VCALENDAR