BEGIN:VCALENDAR
VERSION:2.0
PRODID:-//wp-events-plugin.com//7.2.3.1//EN
BEGIN:VEVENT
UID:3569@sairegion10.org
DTSTART;TZID=America/Chicago:20261226T160000
DTEND;TZID=America/Chicago:20261226T200000
DTSTAMP:20260421T220107Z
URL:https://sairegion10.org/events/ekadasha-rudram-2026-05-30-2026-06-27-2
 026-07-25-2026-08-29-2026-09-26-2026-10-31-2026-11-28-2026-12-26/
SUMMARY:Ekadasha Rudram
DESCRIPTION:Monthly  Ekadasha Rudram followed by potluck dinner\n\n 	Month
 ly cadence: Last Saturday of every month @ 4 pm.\n 	Timimg: From 4 pm to 
 7:30 pm followed by dinner.\n 	Where:  Dallas Sai Center\, 2875 E Parker 
 Rd. Plano\, Tx\n
CATEGORIES:Devotional
END:VEVENT
BEGIN:VTIMEZONE
TZID:America/Chicago
X-LIC-LOCATION:America/Chicago
BEGIN:STANDARD
DTSTART:20261101T010000
TZOFFSETFROM:-0500
TZOFFSETTO:-0600
TZNAME:CST
END:STANDARD
END:VTIMEZONE
END:VCALENDAR