BEGIN:VCALENDAR
VERSION:2.0
PRODID:-//wp-events-plugin.com//7.2.3.1//EN
BEGIN:VEVENT
UID:3581@sairegion10.org
DTSTART;TZID=America/Chicago:20271225T160000
DTEND;TZID=America/Chicago:20271225T200000
DTSTAMP:20260421T220107Z
URL:https://sairegion10.org/events/ekadasha-rudram-2026-05-30-2026-06-27-2
 026-07-25-2026-08-29-2026-09-26-2026-10-31-2026-11-28-2026-12-26-2027-01-3
 0-2027-02-27-2027-03-27-2027-04-24-2027-05-29-2027-06-26-2027-07-31-2027-2
 7-2027-12-25/
SUMMARY:Ekadasha Rudram
DESCRIPTION:Monthly  Ekadasha Rudram followed by potluck dinner\n\n 	Month
 ly cadence: Last Saturday of every month @ 4 pm.\n 	Timimg: From 4 pm to 
 7:30 pm followed by dinner.\n 	Where:  Dallas Sai Center\, 2875 E Parker 
 Rd. Plano\, Tx\n
CATEGORIES:Devotional
END:VEVENT
BEGIN:VTIMEZONE
TZID:America/Chicago
X-LIC-LOCATION:America/Chicago
BEGIN:STANDARD
DTSTART:20271107T010000
TZOFFSETFROM:-0500
TZOFFSETTO:-0600
TZNAME:CST
END:STANDARD
END:VTIMEZONE
END:VCALENDAR