BEGIN:VCALENDAR
VERSION:2.0
PRODID:-//wp-events-plugin.com//7.2.3.1//EN
BEGIN:VEVENT
UID:3560@sairegion10.org
DTSTART;TZID=America/Chicago:20260502T160000
DTEND;TZID=America/Chicago:20260502T200000
DTSTAMP:20260421T215402Z
URL:https://sairegion10.org/events/ekadasha-rudram-2/
SUMMARY:Ekadasha Rudram
DESCRIPTION:Monthly  Ekadasha Rudram followed by potluck dinner\n\n 	Inaug
 ural session: May 2nd 4 pm to 7:30 pm followed by dinner\n 	Monthly cade
 nce: Last Saturday of every month @ 4 pm.\n 	Where:  Dallas Sai Center\,
  2875 E Parker Rd. Plano\, Tx\n\nKindly look out for the RSVP link in your
  weekly DSC newsletter for signup.
CATEGORIES:Devotional
LOCATION:Dallas Sai Center\, 2875 E Parker Rd\, Plano\, TX\, United States
X-APPLE-STRUCTURED-LOCATION;VALUE=URI;X-ADDRESS=2875 E Parker Rd\, Plano\, 
 TX\, United States;X-APPLE-RADIUS=100;X-TITLE=Dallas Sai Center:geo:0,0
END:VEVENT
BEGIN:VTIMEZONE
TZID:America/Chicago
X-LIC-LOCATION:America/Chicago
BEGIN:DAYLIGHT
DTSTART:20260308T030000
TZOFFSETFROM:-0600
TZOFFSETTO:-0500
TZNAME:CDT
END:DAYLIGHT
END:VTIMEZONE
END:VCALENDAR